Package: lipidr Version: 2.21.0 Command: /home/biocbuild/R/R/bin/R CMD build --keep-empty-dirs --no-resave-data lipidr StartedAt: 2025-01-28 23:55:50 -0000 (Tue, 28 Jan 2025) EndedAt: 2025-01-28 23:57:08 -0000 (Tue, 28 Jan 2025) EllapsedTime: 78.0 seconds RetCode: 0 Status: OK PackageFile: lipidr_2.21.0.tar.gz PackageFileSize: 2.434 MiB