Package: lipidr Version: 2.21.0 Command: /Library/Frameworks/R.framework/Resources/bin/R CMD INSTALL lipidr StartedAt: 2025-02-03 16:01:07 -0500 (Mon, 03 Feb 2025) EndedAt: 2025-02-03 16:01:18 -0500 (Mon, 03 Feb 2025) EllapsedTime: 10.8 seconds RetCode: 0 Status: OK