Package: lipidr Version: 2.23.0 Maintainer: Ahmed Mohamed MaintainerEmail: mohamed at kuicr.kyoto-u.ac.jp git_url: https://git.bioconductor.org/packages/lipidr git_branch: devel git_last_commit: 9ed2a4a git_last_commit_date: 2025-04-15 11:43:59 -0400 (Tue, 15 Apr 2025)