Package: lionessR Version: 1.23.0 Command: /home/biocbuild/R/R/bin/R CMD build --keep-empty-dirs --no-resave-data lionessR StartedAt: 2025-10-03 00:56:03 -0000 (Fri, 03 Oct 2025) EndedAt: 2025-10-03 00:56:56 -0000 (Fri, 03 Oct 2025) EllapsedTime: 53.0 seconds RetCode: 0 Status: OK PackageFile: lionessR_1.23.0.tar.gz PackageFileSize: 2.771 MiB