Package: lionessR Version: 1.23.0 Command: /Library/Frameworks/R.framework/Resources/bin/R CMD INSTALL lionessR StartedAt: 2025-05-06 15:17:26 -0400 (Tue, 06 May 2025) EndedAt: 2025-05-06 15:17:30 -0400 (Tue, 06 May 2025) EllapsedTime: 3.9 seconds RetCode: 0 Status: OK