Package: linkSet Version: 0.99.19 Command: /home/biocbuild/R/R/bin/R CMD INSTALL linkSet StartedAt: 2025-10-23 21:07:03 -0000 (Thu, 23 Oct 2025) EndedAt: 2025-10-23 21:08:00 -0000 (Thu, 23 Oct 2025) EllapsedTime: 57.5 seconds RetCode: 0 Status: OK