Package: linkSet Version: 0.99.19 Command: /home/biocbuild/R/R/bin/R CMD build --keep-empty-dirs --no-resave-data linkSet StartedAt: 2025-10-21 00:47:58 -0000 (Tue, 21 Oct 2025) EndedAt: 2025-10-21 00:49:39 -0000 (Tue, 21 Oct 2025) EllapsedTime: 101.0 seconds RetCode: 0 Status: OK PackageFile: linkSet_0.99.19.tar.gz PackageFileSize: 4.337 MiB