Package: linkSet Version: 1.1.0 Command: /home/biocbuild/bbs-3.23-bioc/R/bin/R CMD INSTALL linkSet StartedAt: 2025-11-23 15:44:37 -0500 (Sun, 23 Nov 2025) EndedAt: 2025-11-23 15:45:20 -0500 (Sun, 23 Nov 2025) EllapsedTime: 43.8 seconds RetCode: 0 Status: OK