Package: linkSet Version: 0.99.19 Command: /Library/Frameworks/R.framework/Resources/bin/R CMD INSTALL linkSet StartedAt: 2025-09-30 15:22:51 -0400 (Tue, 30 Sep 2025) EndedAt: 2025-09-30 15:23:09 -0400 (Tue, 30 Sep 2025) EllapsedTime: 17.3 seconds RetCode: 0 Status: OK