Package: linkSet Version: 0.99.19 Command: /Library/Frameworks/R.framework/Resources/bin/R CMD build --keep-empty-dirs --no-resave-data linkSet StartedAt: 2025-10-01 16:53:02 -0400 (Wed, 01 Oct 2025) EndedAt: 2025-10-01 16:53:31 -0400 (Wed, 01 Oct 2025) EllapsedTime: 29.3 seconds RetCode: 1 Status: ERROR PackageFile: None PackageFileSize: NA