Package: lineagespot Version: 1.11.0 Command: E:\biocbuild\bbs-3.21-bioc\R\bin\R.exe CMD INSTALL lineagespot StartedAt: 2025-02-05 16:15:28 -0500 (Wed, 05 Feb 2025) EndedAt: 2025-02-05 16:16:18 -0500 (Wed, 05 Feb 2025) EllapsedTime: 50.3 seconds RetCode: 0 Status: OK