Package: lineagespot Version: 1.11.0 Command: chmod a+r lineagespot -R && E:\biocbuild\bbs-3.21-bioc\R\bin\R.exe CMD build --keep-empty-dirs --no-resave-data lineagespot StartedAt: 2025-02-10 19:45:56 -0500 (Mon, 10 Feb 2025) EndedAt: 2025-02-10 19:47:18 -0500 (Mon, 10 Feb 2025) EllapsedTime: 82.4 seconds RetCode: 0 Status: OK PackageFile: lineagespot_1.11.0.tar.gz PackageFileSize: 718.7 KiB