Package: lineagespot Version: 1.11.0 Command: rm -rf lineagespot.buildbin-libdir && mkdir lineagespot.buildbin-libdir && E:\biocbuild\bbs-3.21-bioc\R\bin\R.exe CMD INSTALL --build --library=lineagespot.buildbin-libdir lineagespot_1.11.0.tar.gz StartedAt: 2025-02-06 08:20:22 -0500 (Thu, 06 Feb 2025) EndedAt: 2025-02-06 08:21:38 -0500 (Thu, 06 Feb 2025) EllapsedTime: 75.5 seconds RetCode: 0 Status: OK PackageFile: lineagespot_1.11.0.zip PackageFileSize: 765.2 KiB