Package: lineagespot Version: 1.11.0 Command: /home/biocbuild/bbs-3.21-bioc/R/bin/R CMD INSTALL lineagespot StartedAt: 2025-02-03 15:48:11 -0500 (Mon, 03 Feb 2025) EndedAt: 2025-02-03 15:48:50 -0500 (Mon, 03 Feb 2025) EllapsedTime: 38.3 seconds RetCode: 0 Status: OK