Package: lineagespot Version: 1.11.0 Command: /home/biocbuild/bbs-3.21-bioc/R/bin/R CMD check --install=check:lineagespot.install-out.txt --library=/home/biocbuild/bbs-3.21-bioc/R/site-library --timings lineagespot_1.11.0.tar.gz StartedAt: 2025-02-03 23:45:47 -0500 (Mon, 03 Feb 2025) EndedAt: 2025-02-03 23:52:12 -0500 (Mon, 03 Feb 2025) EllapsedTime: 385.8 seconds RetCode: 0 Status: OK CheckDir: lineagespot.Rcheck Warnings: 0