Package: lineagespot Version: 1.11.0 Command: /home/biocbuild/bbs-3.21-bioc/R/bin/R CMD build --keep-empty-dirs --no-resave-data lineagespot StartedAt: 2025-02-03 18:00:42 -0500 (Mon, 03 Feb 2025) EndedAt: 2025-02-03 18:01:48 -0500 (Mon, 03 Feb 2025) EllapsedTime: 66.1 seconds RetCode: 0 Status: OK PackageFile: lineagespot_1.11.0.tar.gz PackageFileSize: 718.6 KiB