Package: lineagespot Version: 1.11.0 Command: /Library/Frameworks/R.framework/Resources/bin/R CMD INSTALL lineagespot StartedAt: 2025-02-05 15:20:02 -0500 (Wed, 05 Feb 2025) EndedAt: 2025-02-05 15:20:53 -0500 (Wed, 05 Feb 2025) EllapsedTime: 50.4 seconds RetCode: 0 Status: OK