Package: lineagespot Version: 1.11.0 Command: /home/biocbuild/R/R/bin/R CMD INSTALL lineagespot StartedAt: 2025-01-29 19:57:00 -0000 (Wed, 29 Jan 2025) EndedAt: 2025-01-29 19:57:53 -0000 (Wed, 29 Jan 2025) EllapsedTime: 53.4 seconds RetCode: 0 Status: OK