Package: lineagespot Version: 1.11.0 Command: /Library/Frameworks/R.framework/Resources/bin/R CMD INSTALL lineagespot StartedAt: 2025-02-05 15:11:17 -0500 (Wed, 05 Feb 2025) EndedAt: 2025-02-05 15:11:33 -0500 (Wed, 05 Feb 2025) EllapsedTime: 15.6 seconds RetCode: 0 Status: OK