Package: lineagespot Version: 1.13.0 Command: /Library/Frameworks/R.framework/Resources/bin/R CMD build --keep-empty-dirs --no-resave-data lineagespot StartedAt: 2025-04-27 16:43:51 -0400 (Sun, 27 Apr 2025) EndedAt: 2025-04-27 16:44:21 -0400 (Sun, 27 Apr 2025) EllapsedTime: 30.4 seconds RetCode: 0 Status: OK PackageFile: lineagespot_1.13.0.tar.gz PackageFileSize: 718.5 KiB