Package: limpca Version: 1.5.0 Command: chmod a+r limpca -R && F:\biocbuild\bbs-3.22-bioc\R\bin\R.exe CMD build --keep-empty-dirs --no-resave-data limpca StartedAt: 2025-08-14 21:07:12 -0400 (Thu, 14 Aug 2025) EndedAt: 2025-08-14 21:11:27 -0400 (Thu, 14 Aug 2025) EllapsedTime: 255.4 seconds RetCode: 0 Status: OK PackageFile: limpca_1.5.0.tar.gz PackageFileSize: 2.304 MiB