Package: limpa Version: 1.1.6 Command: /home/biocbuild/bbs-3.22-bioc/R/bin/R CMD INSTALL limpa StartedAt: 2025-10-13 15:05:31 -0400 (Mon, 13 Oct 2025) EndedAt: 2025-10-13 15:05:43 -0400 (Mon, 13 Oct 2025) EllapsedTime: 12.0 seconds RetCode: 0 Status: OK