Package: limpa Version: 1.1.6 Command: /home/biocbuild/bbs-3.22-bioc/R/bin/R CMD build --keep-empty-dirs --no-resave-data --md5 limpa StartedAt: 2025-10-13 18:23:32 -0400 (Mon, 13 Oct 2025) EndedAt: 2025-10-13 18:23:41 -0400 (Mon, 13 Oct 2025) EllapsedTime: 9.0 seconds RetCode: 0 Status: OK PackageFile: limpa_1.1.6.tar.gz PackageFileSize: 539.5 KiB