Package: limma Version: 3.63.3 Command: chmod a+r limma -R && E:\biocbuild\bbs-3.21-bioc\R\bin\R.exe CMD build --keep-empty-dirs --no-resave-data limma StartedAt: 2025-02-03 19:46:27 -0500 (Mon, 03 Feb 2025) EndedAt: 2025-02-03 19:47:43 -0500 (Mon, 03 Feb 2025) EllapsedTime: 75.8 seconds RetCode: 0 Status: OK PackageFile: limma_3.63.3.tar.gz PackageFileSize: 2.689 MiB