Package: limma Version: 3.63.3 Command: /home/biocbuild/bbs-3.21-bioc/R/bin/R CMD check --install=check:limma.install-out.txt --library=/home/biocbuild/bbs-3.21-bioc/R/site-library --timings limma_3.63.3.tar.gz StartedAt: 2025-02-03 23:45:09 -0500 (Mon, 03 Feb 2025) EndedAt: 2025-02-03 23:46:37 -0500 (Mon, 03 Feb 2025) EllapsedTime: 87.2 seconds RetCode: 0 Status: OK CheckDir: limma.Rcheck Warnings: 0