Package: limma Version: 3.63.3 Command: /Library/Frameworks/R.framework/Resources/bin/R CMD INSTALL limma StartedAt: 2025-02-03 15:37:42 -0500 (Mon, 03 Feb 2025) EndedAt: 2025-02-03 15:37:50 -0500 (Mon, 03 Feb 2025) EllapsedTime: 8.0 seconds RetCode: 0 Status: OK