Package: lfa Version: 2.9.0 Command: /home/biocbuild/bbs-3.22-bioc/R/bin/R CMD INSTALL lfa StartedAt: 2025-10-17 15:04:36 -0400 (Fri, 17 Oct 2025) EndedAt: 2025-10-17 15:04:46 -0400 (Fri, 17 Oct 2025) EllapsedTime: 10.3 seconds RetCode: 0 Status: OK