Package: lfa Version: 2.9.0 Command: /home/biocbuild/bbs-3.22-bioc/R/bin/R CMD build --keep-empty-dirs --no-resave-data --md5 lfa StartedAt: 2025-10-17 18:18:48 -0400 (Fri, 17 Oct 2025) EndedAt: 2025-10-17 18:18:58 -0400 (Fri, 17 Oct 2025) EllapsedTime: 10.0 seconds RetCode: 0 Status: OK PackageFile: lfa_2.9.0.tar.gz PackageFileSize: 342.8 KiB