Package: lfa Version: 2.9.0 Command: /Library/Frameworks/R.framework/Resources/bin/R CMD build --keep-empty-dirs --no-resave-data lfa StartedAt: 2025-05-01 17:15:31 -0400 (Thu, 01 May 2025) EndedAt: 2025-05-01 17:15:48 -0400 (Thu, 01 May 2025) EllapsedTime: 17.1 seconds RetCode: 0 Status: OK PackageFile: lfa_2.9.0.tar.gz PackageFileSize: 340.8 KiB