Package: lfa Version: 2.9.0 Command: /Library/Frameworks/R.framework/Resources/bin/R CMD INSTALL lfa StartedAt: 2025-05-01 15:02:55 -0400 (Thu, 01 May 2025) EndedAt: 2025-05-01 15:03:00 -0400 (Thu, 01 May 2025) EllapsedTime: 5.4 seconds RetCode: 0 Status: OK