Package: lfa Version: 2.9.0 Command: /Library/Frameworks/R.framework/Resources/bin/R CMD check --install=check:lfa.install-out.txt --library=/Library/Frameworks/R.framework/Resources/library --no-vignettes --timings lfa_2.9.0.tar.gz StartedAt: 2025-05-02 20:06:42 -0400 (Fri, 02 May 2025) EndedAt: 2025-05-02 20:07:01 -0400 (Fri, 02 May 2025) EllapsedTime: 19.2 seconds RetCode: 0 Status: OK CheckDir: lfa.Rcheck Warnings: 0