Package: lfa Version: 2.9.0 Command: /Library/Frameworks/R.framework/Resources/bin/R CMD build --keep-empty-dirs --no-resave-data lfa StartedAt: 2025-05-02 16:46:16 -0400 (Fri, 02 May 2025) EndedAt: 2025-05-02 16:46:22 -0400 (Fri, 02 May 2025) EllapsedTime: 6.1 seconds RetCode: 0 Status: OK PackageFile: lfa_2.9.0.tar.gz PackageFileSize: 340.7 KiB