Package: levi Version: 1.29.0 Command: /home/biocbuild/bbs-3.23-bioc/R/bin/R CMD build --keep-empty-dirs --no-resave-data levi StartedAt: 2025-11-13 18:19:32 -0500 (Thu, 13 Nov 2025) EndedAt: 2025-11-13 18:21:59 -0500 (Thu, 13 Nov 2025) EllapsedTime: 147.3 seconds RetCode: 0 Status: OK PackageFile: levi_1.29.0.tar.gz PackageFileSize: 2.774 MiB