Package: lemur Version: 1.7.0 Command: chmod a+r lemur -R && F:\biocbuild\bbs-3.22-bioc\R\bin\R.exe CMD build --keep-empty-dirs --no-resave-data lemur StartedAt: 2025-08-14 21:06:05 -0400 (Thu, 14 Aug 2025) EndedAt: 2025-08-14 21:08:43 -0400 (Thu, 14 Aug 2025) EllapsedTime: 157.5 seconds RetCode: 0 Status: OK PackageFile: lemur_1.7.0.tar.gz PackageFileSize: 3.341 MiB