Package: lemur Version: 1.7.1 Command: /home/biocbuild/bbs-3.22-bioc/R/bin/R CMD INSTALL lemur StartedAt: 2025-10-21 15:28:09 -0400 (Tue, 21 Oct 2025) EndedAt: 2025-10-21 15:28:48 -0400 (Tue, 21 Oct 2025) EllapsedTime: 39.1 seconds RetCode: 0 Status: OK