Package: lemur Version: 1.7.0 Maintainer: Constantin Ahlmann-Eltze MaintainerEmail: artjom31415 at googlemail.com git_url: https://git.bioconductor.org/packages/lemur git_branch: devel git_last_commit: a472576 git_last_commit_date: 2025-04-15 13:24:02 -0400 (Tue, 15 Apr 2025)