Package: lefser Version: 1.19.1 Command: /home/biocbuild/bbs-3.22-bioc/R/bin/R CMD INSTALL lefser StartedAt: 2025-10-13 15:58:38 -0400 (Mon, 13 Oct 2025) EndedAt: 2025-10-13 15:59:03 -0400 (Mon, 13 Oct 2025) EllapsedTime: 25.7 seconds RetCode: 0 Status: OK