Package: lefser Version: 1.19.1 Command: /home/biocbuild/bbs-3.22-bioc/R/bin/R CMD build --keep-empty-dirs --no-resave-data --md5 lefser StartedAt: 2025-10-14 18:20:56 -0400 (Tue, 14 Oct 2025) EndedAt: 2025-10-14 18:21:44 -0400 (Tue, 14 Oct 2025) EllapsedTime: 48.1 seconds RetCode: 0 Status: OK PackageFile: lefser_1.19.1.tar.gz PackageFileSize: 601.3 KiB