Package: leapR Version: 0.99.5 Command: /home/biocbuild/bbs-3.23-bioc/R/bin/R CMD build --keep-empty-dirs --no-resave-data leapR StartedAt: 2025-11-14 18:19:05 -0500 (Fri, 14 Nov 2025) EndedAt: 2025-11-14 18:28:23 -0500 (Fri, 14 Nov 2025) EllapsedTime: 558.6 seconds RetCode: 0 Status: OK PackageFile: leapR_0.99.5.tar.gz PackageFileSize: 2.52 MiB