Package: ldblock Version: 1.39.1 Command: /home/biocbuild/R/R/bin/R CMD INSTALL ldblock StartedAt: 2025-10-23 20:33:34 -0000 (Thu, 23 Oct 2025) EndedAt: 2025-10-23 20:33:48 -0000 (Thu, 23 Oct 2025) EllapsedTime: 14.0 seconds RetCode: 0 Status: OK