Package: ldblock Version: 1.39.1 Command: /home/biocbuild/bbs-3.22-bioc/R/bin/R CMD INSTALL ldblock StartedAt: 2025-09-21 15:15:33 -0400 (Sun, 21 Sep 2025) EndedAt: 2025-09-21 15:15:44 -0400 (Sun, 21 Sep 2025) EllapsedTime: 10.9 seconds RetCode: 0 Status: OK