Package: lapmix Version: 1.73.0 Command: E:\biocbuild\bbs-3.21-bioc\R\bin\R.exe CMD INSTALL lapmix StartedAt: 2025-02-05 15:25:45 -0500 (Wed, 05 Feb 2025) EndedAt: 2025-02-05 15:25:49 -0500 (Wed, 05 Feb 2025) EllapsedTime: 4.0 seconds RetCode: 1 Status: ERROR