############################################################################## ############################################################################## ### ### Running command: ### ### E:\biocbuild\bbs-3.21-bioc\R\bin\R.exe CMD INSTALL lapmix ### ############################################################################## ############################################################################## * installing to library 'E:/biocbuild/bbs-3.21-bioc/R/library' * installing *source* package 'lapmix' ... ** this is package 'lapmix' version '1.73.0' ** using staged installation ** R ** byte-compile and prepare package for lazy loading Error: object 'showMlist' is not exported by 'namespace:methods' Execution halted ERROR: lazy loading failed for package 'lapmix' * removing 'E:/biocbuild/bbs-3.21-bioc/R/library/lapmix'