Package: lapmix Version: 1.73.0 Command: chmod a+r lapmix -R && E:\biocbuild\bbs-3.21-bioc\R\bin\R.exe CMD build --keep-empty-dirs --no-resave-data lapmix StartedAt: 2025-02-02 19:29:41 -0500 (Sun, 02 Feb 2025) EndedAt: 2025-02-02 19:29:44 -0500 (Sun, 02 Feb 2025) EllapsedTime: 2.6 seconds RetCode: 1 Status: ERROR PackageFile: None PackageFileSize: NA