############################################################################## ############################################################################## ### ### Running command: ### ### chmod a+r lapmix -R && E:\biocbuild\bbs-3.21-bioc\R\bin\R.exe CMD build --keep-empty-dirs --no-resave-data lapmix ### ############################################################################## ############################################################################## * checking for file 'lapmix/DESCRIPTION' ... OK * preparing 'lapmix': * checking DESCRIPTION meta-information ... OK * installing the package to build vignettes ----------------------------------- * installing *source* package 'lapmix' ... ** this is package 'lapmix' version '1.73.0' ** using staged installation ** R ** byte-compile and prepare package for lazy loading Error: object 'showMlist' is not exported by 'namespace:methods' Execution halted ERROR: lazy loading failed for package 'lapmix' * removing 'E:/biocbuild/bbs-3.21-bioc/tmpdir/RtmpO213oO/Rinst16e385df0680a/lapmix' ----------------------------------- ERROR: package installation failed