Package: koinar Version: 1.3.0 Command: /home/biocbuild/R/R/bin/R CMD build --keep-empty-dirs --no-resave-data koinar StartedAt: 2025-10-10 01:37:26 -0000 (Fri, 10 Oct 2025) EndedAt: 2025-10-10 01:38:08 -0000 (Fri, 10 Oct 2025) EllapsedTime: 42.0 seconds RetCode: 0 Status: OK PackageFile: koinar_1.3.0.tar.gz PackageFileSize: 946.9 KiB