Package: knowYourCG Version: 1.5.2 Command: chmod a+r knowYourCG -R && F:\biocbuild\bbs-3.22-bioc\R\bin\R.exe CMD build --keep-empty-dirs --no-resave-data knowYourCG StartedAt: 2025-08-14 21:05:38 -0400 (Thu, 14 Aug 2025) EndedAt: 2025-08-14 21:09:20 -0400 (Thu, 14 Aug 2025) EllapsedTime: 222.2 seconds RetCode: 0 Status: OK PackageFile: knowYourCG_1.5.2.tar.gz PackageFileSize: 14.47 MiB