Package: knowYourCG Version: 1.5.0 Maintainer: Goldberg David MaintainerEmail: golddc72 at pennmedicine.upenn.edu git_url: https://git.bioconductor.org/packages/knowYourCG git_branch: devel git_last_commit: 0d6fd0f git_last_commit_date: 2025-04-15 13:32:17 -0400 (Tue, 15 Apr 2025)