Package: kmcut Version: 1.1.0 Command: /Library/Frameworks/R.framework/Resources/bin/R CMD INSTALL kmcut StartedAt: 2025-02-03 15:38:43 -0500 (Mon, 03 Feb 2025) EndedAt: 2025-02-03 15:39:12 -0500 (Mon, 03 Feb 2025) EllapsedTime: 29.3 seconds RetCode: 0 Status: OK