Package: kmcut Version: 1.1.0 Command: /Library/Frameworks/R.framework/Resources/bin/R CMD check --install=check:kmcut.install-out.txt --library=/Library/Frameworks/R.framework/Resources/library --no-vignettes --timings kmcut_1.1.0.tar.gz StartedAt: 2025-02-05 21:16:55 -0500 (Wed, 05 Feb 2025) EndedAt: 2025-02-05 21:19:34 -0500 (Wed, 05 Feb 2025) EllapsedTime: 158.6 seconds RetCode: 0 Status: OK CheckDir: kmcut.Rcheck Warnings: 0